Workbook

Sheet Leave 25
A1: People Samachar IT Department Attendence
A2: S.No | B2: Name | C2: Jan | D2: Feb | E2: Mar | F2: Apr | G2: May | H2: Jun | I2: Jul | J2: Aug | K2: Sep | L2: Oct | M2: Nov | N2: Dec | O2: Total Leave
A3: 1 | B3: Mr. Sudhir Shrivastava | C3: ='Jan25'!AJ4 -> 0 | O3: =SUM(C3:N3) -> 0
A4: 2 | B4: Mr. Ved Prakash | C4: ='Jan25'!AJ5 -> 0 | O4: =SUM(C4:N4) -> 0
A5: 3 | B5: Mr. Dalchand | C5: ='Jan25'!AJ6 -> 0 | O5: =SUM(C5:N5) -> 0
A6: 4 | B6: Mr. Alok Shrivastava | C6: ='Jan25'!AJ7 -> 4 | O6: =SUM(C6:N6) -> 4
A7: 5 | B7: Mr. Javed | C7: ='Jan25'!AJ8 -> 0 | O7: =SUM(C7:N7) -> 0
A8: 6 | B8: Mr. Hemant | C8: ='Jan25'!AJ9 -> 0 | O8: =SUM(C8:N8) -> 0
A9: 7 | B9: Mr. Yogesh Singh | C9: ='Jan25'!AJ10 -> 0 | O9: =SUM(C9:N9) -> 0
A10: 8 | B10: Mr. Satish | C10: ='Jan25'!AJ11 -> 0 | O10: =SUM(C10:N10) -> 0
A11: 9 | B11: Mr. Hirdesh Sharma | C11: ='Jan25'!AJ15 -> 0 | O11: =SUM(C11:N11) -> 0
A12: 10 | B12: Mr. kamlesh | C12: ='Jan25'!AJ16 -> 1 | O12: =SUM(C12:N12) -> 1
A13: 11 | B13: Mr. kailash Bachchan | C13: ='Jan25'!AJ17 -> 1 | O13: =SUM(C13:N13) -> 1
A14: 12 | B14: Mr. Mitresh Soni | C14: ='Jan25'!AJ18 -> 0 | O14: =SUM(C14:N14) -> 0
A15: 13 | B15: Mr. Ashutosh | C15: ='Jan25'!AJ19 -> 8 | O15: =SUM(C15:N15) -> 8

Sheet Jan25
A1: People Samachar IT Department Attendence
A2: 12/26/24 To 01/25/25 | C2: THURSDAY | D2: FRIDAY | E2: SATURDAY | F2: SUNDAY | G2: MONDAY | H2: TUESDAY | I2: WEDNESDAY | J2: THURSDAY | K2: FRIDAY | L2: SATURDAY | M2: SUNDAY | N2: MONDAY | O2: TUESDAY | P2: WEDNESDAY | Q2: THURSDAY | R2: FRIDAY | S2: SATURDAY | T2: SUNDAY | U2: MONDAY | V2: TUESDAY | W2: WEDNESDAY | X2: THURSDAY | Y2: FRIDAY | Z2: SATURDAY | AA2: SUNDAY | AB2: MONDAY | AC2: TUESDAY | AD2: WEDNESDAY | AE2: THURSDAY | AF2: FRIDAY | AG2: SATURDAY | AH2: P + CO + T | AI2: Total Weekoff | AK2: Total Working Days
B3: Days | C3: 26 | D3: 27 | E3: 28 | F3: 29 | G3: 30 | H3: 31 | I3: 1 | J3: 2 | K3: 3 | L3: 4 | M3: 5 | N3: 6 | O3: 7 | P3: 8 | Q3: 9 | R3: 10 | S3: 11 | T3: 12 | U3: 13 | V3: 14 | W3: 15 | X3: 16 | Y3: 17 | Z3: 18 | AA3: 19 | AB3: 20 | AC3: 21 | AD3: 22 | AE3: 23 | AF3: 24 | AG3: 25 | AJ3: LEAVE
A4: 1 | B4: Mr. Sudhir Shrivastava | C4: P | D4: P | E4: P | F4: WO | G4: P | H4: P | I4: P | J4: P | K4: P | L4: P | M4: WO | N4: P | O4: CO | P4: CO | Q4: P | R4: P | S4: P | T4: WO | U4: CO | V4: P | W4: P | X4: CO | Y4: CO | Z4: P | AA4: WO | AB4: P | AC4: P | AD4: P | AE4: CO | AF4: P | AG4: CO | AH4: =COUNTIF(C4:AG4,CELL("contents",C22))+COUNTIF(C4:AG4,CELL("contents",C26))+COUNTIF(C4:AG4,CELL("contents",C24))++COUNTIF(C4:AG4,CELL("contents",C29)) -> 27 | AI4: =COUNTIF(C4:AG4,CELL("contents",C28)) -> 4 | AJ4: =COUNTIF(C4:AG4,CELL("contents",C25)) -> 0 | AK4: =AH4+AI4+AJ4 -> 31
A5: 2 | B5: Mr. Ved Prakash | C5: P | D5: P | E5: WO | F5: P | G5: P | H5: P | I5: P | J5: P | K5: P | L5: WO | M5: P | N5: P | O5: P | P5: P | Q5: P | R5: P | S5: WO | T5: P | U5: P | V5: P | W5: P | X5: P | Y5: P | Z5: WO | AA5: P | AB5: P | AC5: P | AD5: P | AE5: CO | AF5: P | AG5: WO | AH5: =COUNTIF(C5:AG5,CELL("contents",C22))+COUNTIF(C5:AG5,CELL("contents",C26))+COUNTIF(C5:AG5,CELL("contents",C24))++COUNTIF(C5:AG5,CELL("contents",C29)) -> 26 | AI5: =COUNTIF(C5:AG5,CELL("contents",C28)) -> 5 | AJ5: =COUNTIF(C5:AG5,CELL("contents",C25)) -> 0 | AK5: =AH5+AI5+AJ5 -> 31
A6: 3 | B6: Mr. Dalchand | C6: P | D6: P | E6: P | F6: P | G6: WO | H6: P | I6: P | J6: P | K6: P | L6: P | M6: P | N6: WO | O6: CO | P6: CO | Q6: CO | R6: P | S6: P | T6: P | U6: WO | V6: P | W6: P | X6: P | Y6: CO | Z6: CO | AA6: CO | AB6: CO | AC6: WO | AD6: CO | AE6: CO | AF6: CO | AG6: CO | AH6: =COUNTIF(C6:AG6,CELL("contents",C22))+COUNTIF(C6:AG6,CELL("contents",C26))+COUNTIF(C6:AG6,CELL("contents",C29)) -> 27 | AI6: =COUNTIF(C6:AG6,CELL("contents",C28)) -> 4 | AJ6: =COUNTIF(C6:AG6,CELL("contents",C25)) -> 0 | AK6: =AH6+AI6+AJ6 -> 31
A7: 4 | B7: Mr. Alok Shrivastava | C7: P | D7: P | E7: P | F7: P | G7: P | H7: WO | I7: P | J7: P | K7: P | L7: P | M7: P | N7: P | O7: WO | P7: P | Q7: P | R7: P | S7: P | T7: P | U7: P | V7: WO | W7: P | X7: P | Y7: L | Z7: L | AA7: L | AB7: L | AC7: WO | AD7: P | AE7: P | AF7: P | AG7: P | AH7: =COUNTIF(C7:AG7,CELL("contents",C22))+COUNTIF(C7:AG7,CELL("contents",C26))+COUNTIF(C7:AG7,CELL("contents",C29)) -> 23 | AI7: =COUNTIF(C7:AG7,CELL("contents",C28)) -> 4 | AJ7: =COUNTIF(C7:AG7,CELL("contents",C25)) -> 4 | AK7: =AH7+AI7+AJ7 -> 31
A8: 5 | B8: Mr. Javed | C8: WO | D8: P | E8: P | F8: P | G8: P | H8: P | I8: P | J8: WO | K8: P | L8: P | M8: P | N8: P | O8: P | P8: P | Q8: WO | R8: P | S8: P | T8: P | U8: P | V8: P | W8: P | X8: WO | Y8: P | Z8: P | AA8: P | AB8: P | AC8: P | AD8: P | AE8: WO | AF8: P | AG8: P | AH8: =COUNTIF(C8:AG8,CELL("contents",C22))+COUNTIF(C8:AD8,CELL("contents",C26))+COUNTIF(C8:AD8,CELL("contents",C29)) -> 26 | AI8: =COUNTIF(C8:AG8,CELL("contents",C28)) -> 5 | AJ8: =COUNTIF(C8:AG8,CELL("contents",C25)) -> 0 | AK8: =AH8+AI8+AJ8 -> 31
A9: 6 | B9: Mr. Hemant | C9: P | D9: WO | E9: P | F9: P | G9: P | H9: P | I9: P | J9: P | K9: WO | L9: P | M9: P | N9: P | O9: P | P9: P | Q9: P | R9: WO | S9: P | T9: P | U9: P | V9: P | W9: P | X9: P | Y9: WO | Z9: P | AA9: P | AB9: P | AC9: P | AD9: P | AE9: P | AF9: WO | AG9: P | AH9: =COUNTIF(C9:AG9,CELL("contents",C22))+COUNTIF(C9:AG9,CELL("contents",C26))+COUNTIF(C9:AD9,CELL("contents",C29)) -> 26 | AI9: =COUNTIF(C9:AG9,CELL("contents",C28)) -> 5 | AJ9: =COUNTIF(C9:AG9,CELL("contents",C25)) -> 0 | AK9: =AH9+AI9+AJ9 -> 31
A10: 7 | B10: Mr. Yogesh Singh | C10: P | D10: P | E10: P | F10: WO | G10: P | H10: P | I10: P | J10: P | K10: P | L10: P | M10: WO | N10: P | O10: P | P10: P | Q10: P | R10: P | S10: P | T10: WO | U10: P | V10: P | W10: P | X10: P | Y10: P | Z10: P | AA10: WO | AB10: P | AC10: P | AD10: P | AE10: P | AF10: P | AG10: P | AH10: =COUNTIF(C10:AG10,CELL("contents",C22))+COUNTIF(C10:AD10,CELL("contents",C24))+COUNTIF(C10:AG10,CELL("contents",C29)) -> 27 | AI10: =COUNTIF(C10:AG10,CELL("contents",C28)) -> 4 | AJ10: =COUNTIF(C10:AG10,CELL("contents",C25)) -> 0 | AK10: =AH10+AI10+AJ10 -> 31
A11: 8 | B11: Mr. Satish | C11: P | D11: P | E11: P | F11: P | G11: P | H11: P | I11: P | J11: P | K11: P | L11: P | M11: WO | N11: P | O11: P | P11: WO | Q11: WO | R11: P | S11: P | T11: P | U11: P | V11: P | W11: P | X11: P | Y11: P | Z11: P | AA11: P | AB11: P | AC11: P | AD11: WO | AE11: P | AF11: P | AG11: P | AH11: =COUNTIF(C11:AG11,CELL("contents",C22))+COUNTIF(C11:AD11,CELL("contents",C27))+COUNTIF(C11:AG11,CELL("contents",C29)) -> 27 | AI11: =COUNTIF(C11:AG11,CELL("contents",C28)) -> 4 | AJ11: =COUNTIF(C11:AG11,CELL("contents",C26)) -> 0 | AK11: =AH11+AI11+AJ11 -> 31
A12: 8 | B12: Mr. ML Baderiya | C12: P | D12: P | E12: P | F12: WO | G12: P | H12: P | I12: P | J12: P | K12: P | L12: P | M12: WO | N12: P | O12: P | P12: P | Q12: P | R12: P | S12: P | T12: WO | U12: P | V12: P | W12: P | X12: P | Y12: P | Z12: P | AA12: WO | AB12: P | AC12: P | AD12: P | AE12: P | AF12: P | AG12: P | AH12: =COUNTIF(C12:AG12,CELL("contents",C22))+COUNTIF(C12:AD12,CELL("contents",C27))+COUNTIF(C12:AG12,CELL("contents",C29)) -> 27 | AI12: =COUNTIF(C12:AG12,CELL("contents",C28)) -> 4 | AJ12: =COUNTIF(C12:AG12,CELL("contents",C25)) -> 0 | AK12: =AH12+AI12+AJ12 -> 31
A13: IT Department Malviya Nagar
A15: 9 | B15: Mr. Hirdesh Sharma | C15: P | D15: P | E15: P | F15: WO | G15: P | H15: P | I15: P | J15: P | K15: P | L15: P | M15: WO | N15: P | O15: P | P15: P | Q15: P | R15: P | S15: P | T15: WO | U15: P | V15: P | W15: P | X15: P | Y15: P | Z15: P | AA15: WO | AB15: P | AC15: P | AD15: P | AE15: P | AF15: P | AG15: P | AH15: =COUNTIF(C15:AG15,CELL("contents",C22))+COUNTIF(C15:AG15,CELL("contents",C26))+COUNTIF(C15:AG15,CELL("contents",C29))+COUNTIF(C15:AG15,CELL("contents",C24))+COUNTIF(C15:AG15,CELL("contents",C30)) -> 27 | AI15: =COUNTIF(C15:AG15,CELL("contents",C28)) -> 4 | AJ15: =COUNTIF(C15:AG15,CELL("contents",C25)) -> 0 | AK15: =AH15+AI15+AJ15 -> 31
A16: 10 | B16: Mr. Kamlesh | C16: P | D16: P | E16: P | F16: WO | G16: P | H16: P | I16: P | J16: P | K16: P | L16: P | M16: WO | N16: P | O16: P | P16: P | Q16: P | R16: P | S16: L | T16: WO | U16: P | V16: P | W16: P | X16: P | Y16: P | Z16: P | AA16: WO | AB16: P | AC16: P | AD16: P | AE16: P | AF16: P | AG16: P | AH16: =COUNTIF(C16:AG16,CELL("contents",C22))+COUNTIF(C16:AG16,CELL("contents",C30))+COUNTIF(C16:AG16,CELL("contents",C29))+COUNTIF(C16:AG16,CELL("contents",C24)) -> 26 | AI16: =COUNTIF(C16:AG16,CELL("contents",C28)) -> 4 | AJ16: =COUNTIF(C16:AG16,CELL("contents",C25)) -> 1 | AK16: =AH16+AI16+AJ16 -> 31
A17: 11 | B17: Mr. kailash Bachchan | C17: P | D17: WO | E17: P | F17: P | G17: P | H17: P | I17: P | J17: P | K17: WO | L17: P | M17: P | N17: P | O17: P | P17: P | Q17: P | R17: WO | S17: P | T17: P | U17: P | V17: P | W17: L | X17: P | Y17: WO | Z17: P | AA17: P | AB17: P | AC17: P | AD17: P | AE17: P | AF17: WO | AG17: P | AH17: =COUNTIF(C17:AG17,CELL("contents",C22))+COUNTIF(C17:AG17,CELL("contents",C24))+COUNTIF(C17:AG17,CELL("contents",C29))+COUNTIF(C17:AG17,CELL("contents",C30)) -> 25 | AI17: =COUNTIF(C17:AG17,CELL("contents",C28)) -> 5 | AJ17: =COUNTIF(C17:AG17,CELL("contents",C25)) -> 1 | AK17: =AH17+AI17+AJ17 -> 31
A18: 12 | B18: Mr. Mitresh Soni | C18: P | D18: P | E18: P | F18: P | G18: P | H18: P | I18: WO | J18: P | K18: P | L18: P | M18: P | N18: A | O18: A | P18: A | Q18: A | R18: A | S18: A | T18: A | U18: A | V18: A | W18: A | X18: A | Y18: A | Z18: A | AA18: A | AB18: A | AC18: A | AD18: A | AE18: A | AF18: A | AG18: A | AH18: =COUNTIF(C18:AG18,CELL("contents",C22))+COUNTIF(C18:AG18,CELL("contents",C24))+COUNTIF(C18:AG18,CELL("contents",C29))+COUNTIF(C18:AG18,CELL("contents",C26)) -> 10 | AI18: =COUNTIF(C18:AG18,CELL("contents",C28)) -> 1 | AJ18: =COUNTIF(C18:AG18,CELL("contents",C25)) -> 0 | AK18: =AH18+AI18+AJ18 -> 11
A19: 13 | B19: Mr. Ashutosh | C19: P | D19: P | E19: WO | F19: P | G19: P | H19: P | I19: P | J19: P | K19: P | L19: WO | M19: P | N19: P | O19: P | P19: P | Q19: P | R19: P | S19: WO | T19: P | U19: P | V19: P | W19: P | X19: P | Y19: L | Z19: WO | AA19: L | AB19: L | AC19: L | AD19: L | AE19: L | AF19: L | AG19: L | AH19: =COUNTIF(C19:AG19,CELL("contents",C22))+COUNTIF(C19:AG19,CELL("contents",C41))+COUNTIF(C19:AG19,CELL("contents",C29))+COUNTIF(C19:AG19,CELL("contents",C30)) -> 19 | AI19: =COUNTIF(C19:AG19,CELL("contents",C28)) -> 4 | AJ19: =COUNTIF(C19:AG19,CELL("contents",C25)) -> 8 | AK19: =AH19+AI19+AJ19 -> 31
A22: P | B22: Present | C22: P
A23: A | B23: Absent | C23: A
A24: T | B24: Tour | C24: T
A25: L | B25: Leave | C25: L
A26: CO | B26: City Office | C26: CO
A27: M.L. | B27: Medical Leave | C27: ML
A28: WO | B28: Week off | C28: WO
A29: H | B29: HOLIDAY | C29: HO
A30: BH | B30: Bhanpur | C30: BH
A31: HAF | B31: Half Day | C31: HAF

Sheet Feb25
A1: People Samachar IT Department Attendence
A2: 01/26/25 To 02/25/25 | C2: SUNDAY | D2: MONDAY | E2: TUESDAY | F2: WEDNESDAY | G2: THURSDAY | H2: FRIDAY | I2: SATURDAY | J2: SUNDAY | K2: MONDAY | L2: TUESDAY | M2: WEDNESDAY | N2: THURSDAY | O2: FRIDAY | P2: SATURDAY | Q2: SUNDAY | R2: MONDAY | S2: TUESDAY | T2: WEDNESDAY | U2: THURSDAY | V2: FRIDAY | W2: SATURDAY | X2: SUNDAY | Y2: MONDAY | Z2: TUESDAY | AA2: WEDNESDAY | AB2: THURSDAY | AC2: FRIDAY | AD2: SATURDAY | AE2: SUNDAY | AF2: MONDAY | AG2: TUESDAY | AH2: P + CO + T | AI2: Total Weekoff | AK2: Total Working Days
B3: Days | C3: 26 | D3: 27 | E3: 28 | F3: 29 | G3: 30 | H3: 31 | I3: 1 | J3: 2 | K3: 3 | L3: 4 | M3: 5 | N3: 6 | O3: 7 | P3: 8 | Q3: 9 | R3: 10 | S3: 11 | T3: 12 | U3: 13 | V3: 14 | W3: 15 | X3: 16 | Y3: 17 | Z3: 18 | AA3: 19 | AB3: 20 | AC3: 21 | AD3: 22 | AE3: 23 | AF3: 24 | AG3: 25 | AJ3: LEAVE
A4: 1 | B4: Mr. Sudhir Shrivastava | C4: HO | D4: P | E4: P | F4: CO | G4: P | H4: P | I4: P | J4: T | K4: T | L4: T | M4: CO | N4: P | O4: P | P4: P | Q4: WO | R4: P | S4: P | T4: P | U4: CO | V4: P | W4: P | X4: WO | Y4: P | Z4: P | AA4: CO | AB4: P | AC4: P | AD4: P | AE4: WO | AF4: P | AG4: P | AH4: =COUNTIF(C4:AG4,CELL("contents",C22))+COUNTIF(C4:AG4,CELL("contents",C26))+COUNTIF(C4:AG4,CELL("contents",C24))++COUNTIF(C4:AG4,CELL("contents",C29)) -> 28 | AI4: =COUNTIF(C4:AG4,CELL("contents",C28)) -> 3 | AJ4: =COUNTIF(C4:AG4,CELL("contents",C25)) -> 0 | AK4: =AH4+AI4+AJ4 -> 31
A5: 2 | B5: Mr. Ved Prakash | C5: HO | D5: P | E5: CO | F5: CO | G5: P | H5: P | I5: WO | J5: P | K5: P | L5: P | M5: P | N5: P | O5: P | P5: WO | Q5: P | R5: P | S5: P | T5: CO | U5: P | V5: P | W5: WO | X5: P | Y5: P | Z5: P | AA5: L | AB5: L | AC5: L | AD5: L | AE5: L | AF5: P | AG5: P | AH5: =COUNTIF(C5:AG5,CELL("contents",C22))+COUNTIF(C5:AG5,CELL("contents",C26))+COUNTIF(C5:AG5,CELL("contents",C24))++COUNTIF(C5:AG5,CELL("contents",C29)) -> 23 | AI5: =COUNTIF(C5:AG5,CELL("contents",C28)) -> 3 | AJ5: =COUNTIF(C5:AG5,CELL("contents",C25)) -> 5 | AK5: =AH5+AI5+AJ5 -> 31
A6: 3 | B6: Mr. Dalchand | C6: HO | D6: WO | E6: CO | F6: CO | G6: CO | H6: P | I6: CO | J6: CO | K6: WO | L6: CO | M6: CO | N6: CO | O6: CO | P6: CO | Q6: CO | R6: WO | S6: CO | T6: CO | U6: CO | V6: CO | W6: CO | X6: CO | Y6: WO | Z6: CO | AA6: P | AB6: CO | AC6: CO | AD6: L | AE6: L | AF6: L | AG6: L | AH6: =COUNTIF(C6:AG6,CELL("contents",C22))+COUNTIF(C6:AG6,CELL("contents",C26))+COUNTIF(C6:AG6,CELL("contents",C29)) -> 23 | AI6: =COUNTIF(C6:AG6,CELL("contents",C28)) -> 4 | AJ6: =COUNTIF(C6:AG6,CELL("contents",C25)) -> 4 | AK6: =AH6+AI6+AJ6 -> 31
A7: 4 | B7: Mr. Alok Shrivastava | C7: HO | D7: P | E7: WO | F7: P | G7: P | H7: P | I7: P | J7: P | K7: P | L7: WO | M7: P | N7: P | O7: P | P7: P | Q7: P | R7: P | S7: WO | T7: P | U7: P | V7: P | W7: P | X7: P | Y7: P | Z7: WO | AA7: CO | AB7: P | AC7: P | AD7: P | AE7: P | AF7: P | AG7: WO | AH7: =COUNTIF(C7:AG7,CELL("contents",C22))+COUNTIF(C7:AG7,CELL("contents",C26))+COUNTIF(C7:AG7,CELL("contents",C29)) -> 26 | AI7: =COUNTIF(C7:AG7,CELL("contents",C28)) -> 5 | AJ7: =COUNTIF(C7:AG7,CELL("contents",C25)) -> 0 | AK7: =AH7+AI7+AJ7 -> 31
A8: 5 | B8: Mr. Javed | C8: HO | D8: P | E8: P | F8: P | G8: WO | H8: P | I8: P | J8: P | K8: P | L8: P | M8: P | N8: WO | O8: P | P8: P | Q8: P | R8: P | S8: P | T8: P | U8: WO | V8: P | W8: P | X8: P | Y8: P | Z8: P | AA8: P | AB8: WO | AC8: P | AD8: P | AE8: P | AF8: P | AG8: P | AH8: =COUNTIF(C8:AG8,CELL("contents",C22))+COUNTIF(C8:AD8,CELL("contents",C26))+COUNTIF(C8:AD8,CELL("contents",C29)) -> 27 | AI8: =COUNTIF(C8:AG8,CELL("contents",C28)) -> 4 | AJ8: =COUNTIF(C8:AG8,CELL("contents",C25)) -> 0 | AK8: =AH8+AI8+AJ8 -> 31
A9: 6 | B9: Mr. Hemant | C9: HO | D9: P | E9: P | F9: P | G9: P | H9: WO | I9: P | J9: P | K9: P | L9: P | M9: P | N9: P | O9: WO | P9: P | Q9: P | R9: P | S9: P | T9: P | U9: P | V9: WO | W9: P | X9: P | Y9: P | Z9: P | AA9: P | AB9: P | AC9: WO | AD9: P | AE9: P | AF9: P | AG9: P | AH9: =COUNTIF(C9:AG9,CELL("contents",C22))+COUNTIF(C9:AG9,CELL("contents",C26))+COUNTIF(C9:AD9,CELL("contents",C29)) -> 27 | AI9: =COUNTIF(C9:AG9,CELL("contents",C28)) -> 4 | AJ9: =COUNTIF(C9:AG9,CELL("contents",C25)) -> 0 | AK9: =AH9+AI9+AJ9 -> 31
A10: 7 | B10: Mr. Yogesh Singh | C10: HO | D10: P | E10: P | F10: P | G10: P | H10: P | I10: P | J10: WO | K10: P | L10: P | M10: P | N10: P | O10: P | P10: P | Q10: WO | R10: P | S10: P | T10: P | U10: P | V10: P | W10: P | X10: WO | Y10: P | Z10: P | AA10: P | AB10: P | AC10: P | AD10: P | AE10: WO | AF10: P | AG10: P | AH10: =COUNTIF(C10:AG10,CELL("contents",C22))+COUNTIF(C10:AD10,CELL("contents",C24))+COUNTIF(C10:AG10,CELL("contents",C29)) -> 27 | AI10: =COUNTIF(C10:AG10,CELL("contents",C28)) -> 4 | AJ10: =COUNTIF(C10:AG10,CELL("contents",C25)) -> 0 | AK10: =AH10+AI10+AJ10 -> 31
A11: 8 | B11: Mr. Satish | C11: HO | D11: P | E11: P | F11: P | G11: P | H11: P | I11: P | J11: P | K11: P | L11: P | M11: P | N11: P | O11: P | P11: P | Q11: P | R11: P | S11: P | T11: P | U11: P | V11: P | W11: P | X11: P | Y11: P | Z11: P | AA11: P | AB11: P | AC11: P | AD11: P | AE11: P | AF11: P | AG11: P | AH11: =COUNTIF(C11:AG11,CELL("contents",C22))+COUNTIF(C11:AD11,CELL("contents",C27))+COUNTIF(C11:AG11,CELL("contents",C29)) -> 31 | AI11: =COUNTIF(C11:AG11,CELL("contents",C28)) -> 0 | AJ11: =COUNTIF(C11:AG11,CELL("contents",C26)) -> 0 | AK11: =AH11+AI11+AJ11 -> 31
A12: 8 | B12: Mr. ML Baderiya | C12: HO | D12: P | E12: P | F12: P | G12: P | H12: P | I12: P | J12: WO | K12: P | L12: P | M12: P | N12: P | O12: P | P12: P | Q12: WO | R12: P | S12: P | T12: P | U12: P | V12: P | W12: P | X12: WO | Y12: P | Z12: P | AA12: P | AB12: P | AC12: P | AD12: P | AE12: WO | AF12: P | AG12: P | AH12: =COUNTIF(C12:AG12,CELL("contents",C22))+COUNTIF(C12:AD12,CELL("contents",C27))+COUNTIF(C12:AG12,CELL("contents",C29)) -> 27 | AI12: =COUNTIF(C12:AG12,CELL("contents",C28)) -> 4 | AJ12: =COUNTIF(C12:AG12,CELL("contents",C25)) -> 0 | AK12: =AH12+AI12+AJ12 -> 31
A13: IT Department Malviya Nagar
A15: 9 | B15: Mr. Hirdesh Sharma | C15: HO | D15: P | E15: P | F15: P | G15: P | H15: P | I15: P | J15: WO | K15: P | L15: P | M15: P | N15: P | O15: P | P15: P | Q15: WO | R15: P | S15: P | T15: P | U15: P | V15: P | W15: P | X15: WO | Y15: P | Z15: P | AA15: P | AB15: P | AC15: P | AD15: P | AE15: WO | AF15: P | AG15: P | AH15: =COUNTIF(C15:AG15,CELL("contents",C22))+COUNTIF(C15:AG15,CELL("contents",C26))+COUNTIF(C15:AG15,CELL("contents",C29))+COUNTIF(C15:AG15,CELL("contents",C24))+COUNTIF(C15:AG15,CELL("contents",C30)) -> 27 | AI15: =COUNTIF(C15:AG15,CELL("contents",C28)) -> 4 | AJ15: =COUNTIF(C15:AG15,CELL("contents",C25)) -> 0 | AK15: =AH15+AI15+AJ15 -> 31
A16: 10 | B16: Mr. Kamlesh | C16: HO | D16: P | E16: P | F16: P | G16: P | H16: P | I16: WO | J16: P | K16: P | L16: P | M16: P | N16: P | O16: P | P16: WO | Q16: P | R16: P | S16: P | T16: P | U16: P | V16: P | W16: WO | X16: P | Y16: P | Z16: P | AA16: P | AB16: P | AC16: P | AD16: WO | AE16: P | AF16: P | AG16: P | AH16: =COUNTIF(C16:AG16,CELL("contents",C22))+COUNTIF(C16:AG16,CELL("contents",C30))+COUNTIF(C16:AG16,CELL("contents",C29))+COUNTIF(C16:AG16,CELL("contents",C24)) -> 27 | AI16: =COUNTIF(C16:AG16,CELL("contents",C28)) -> 4 | AJ16: =COUNTIF(C16:AG16,CELL("contents",C25)) -> 0 | AK16: =AH16+AI16+AJ16 -> 31
A17: 11 | B17: Mr. kailash Bachchan | C17: HO | D17: P | E17: P | F17: P | G17: P | H17: WO | I17: P | J17: P | K17: P | L17: P | M17: P | N17: P | O17: WO | P17: P | Q17: P | R17: P | S17: P | T17: P | U17: P | V17: WO | W17: P | X17: P | Y17: P | Z17: P | AA17: P | AB17: P | AC17: WO | AD17: P | AE17: P | AF17: P | AG17: P | AH17: =COUNTIF(C17:AG17,CELL("contents",C22))+COUNTIF(C17:AG17,CELL("contents",C24))+COUNTIF(C17:AG17,CELL("contents",C29))+COUNTIF(C17:AG17,CELL("contents",C30)) -> 27 | AI17: =COUNTIF(C17:AG17,CELL("contents",C28)) -> 4 | AJ17: =COUNTIF(C17:AG17,CELL("contents",C25)) -> 0 | AK17: =AH17+AI17+AJ17 -> 31
A18: 12 | B18: Mr. Mitresh Soni | C18: HO | AH18: =COUNTIF(C18:AG18,CELL("contents",C22))+COUNTIF(C18:AG18,CELL("contents",C24))+COUNTIF(C18:AG18,CELL("contents",C29))+COUNTIF(C18:AG18,CELL("contents",C26)) -> 1 | AI18: =COUNTIF(C18:AG18,CELL("contents",C28)) -> 0 | AJ18: =COUNTIF(C18:AG18,CELL("contents",C25)) -> 0 | AK18: =AH18+AI18+AJ18 -> 1
A19: 13 | B19: Mr. Ashutosh | C19: HO | D19: P | E19: P | F19: P | G19: P | H19: P | I19: WO | J19: P | K19: P | L19: P | M19: P | N19: P | O19: P | P19: WO | Q19: P | R19: P | S19: P | T19: P | U19: P | V19: P | W19: WO | X19: P | Y19: P | Z19: P | AA19: P | AB19: P | AC19: P | AD19: WO | AE19: P | AF19: P | AG19: P | AH19: =COUNTIF(C19:AG19,CELL("contents",C22))+COUNTIF(C19:AG19,CELL("contents",C41))+COUNTIF(C19:AG19,CELL("contents",C29))+COUNTIF(C19:AG19,CELL("contents",C30)) -> 27 | AI19: =COUNTIF(C19:AG19,CELL("contents",C28)) -> 4 | AJ19: =COUNTIF(C19:AG19,CELL("contents",C25)) -> 0 | AK19: =AH19+AI19+AJ19 -> 31
A22: P | B22: Present | C22: P
A23: A | B23: Absent | C23: A
A24: T | B24: Tour | C24: T
A25: L | B25: Leave | C25: L
A26: CO | B26: City Office | C26: CO
A27: M.L. | B27: Medical Leave | C27: ML
A28: WO | B28: Week off | C28: WO
A29: H | B29: HOLIDAY | C29: HO
A30: BH | B30: Bhanpur | C30: BH
A31: HAF | B31: Half Day | C31: HAF
